BEGIN:VCALENDAR
VERSION:2.0
PRODID:-//Tolou International Institute - ECPv6.15.11//NONSGML v1.0//EN
CALSCALE:GREGORIAN
METHOD:PUBLISH
X-ORIGINAL-URL:https://tolouii.com
X-WR-CALDESC:Events for Tolou International Institute
REFRESH-INTERVAL;VALUE=DURATION:PT1H
X-Robots-Tag:noindex
X-PUBLISHED-TTL:PT1H
BEGIN:VTIMEZONE
TZID:Asia/Tehran
BEGIN:STANDARD
TZOFFSETFROM:+0330
TZOFFSETTO:+0330
TZNAME:+0330
DTSTART:20250101T000000
END:STANDARD
END:VTIMEZONE
BEGIN:VEVENT
DTSTART;VALUE=DATE:20260601
DTEND;VALUE=DATE:20260603
DTSTAMP:20260420T091505
CREATED:20260101T043034Z
LAST-MODIFIED:20260104T054806Z
UID:3078-1780272000-1780444799@tolouii.com
SUMMARY:Call for Papers: The 6th International Congress on Imam Reza (AS)
DESCRIPTION:The Sixth International Congress on Imam Reza (AS) \nThe University of Tehran and Astan Quds Razavi cordially invite academics\, researchers\, and scholars to the Sixth International Congress on Imam Reza (AS). In each edition\, this global congress focuses on a fundamental dimension of Razavi thought to provide a platform for dialogue and the exchange of ideas among thinkers from various cultures and religions\, aiming to revive monotheistic traditions and a lifestyle aligned with them. \nIn general\, the congress aims to achieve the following strategic goals: \n\nExplaining and Promoting Razavi Discourse: Focusing on fundamental concepts such as justice\, truth\, human dignity\, spiritual freedom\, and the fight against oppression and discrimination to address the moral and social needs of modern humanity.\nCreating International Synergy: Establishing a space for global dialogue among scholars\, researchers\, and cultural activists to examine ways to realize inclusive justice and protect human rights.\nStrengthening Intellectual and Moral Convergence: Confronting spiritual crises\, structural dominance\, and moral decay by utilizing monotheistic and justice-oriented Razavi thought.\nRe-evaluating Key Human and Social Concepts: Analyzing truth\, justice\, dignity\, and conflict resolution through the lens of religion\, rationality\, and spirituality to rebuild human societies.\nDeveloping a Justice-Oriented Conceptual Framework: Enhancing the understanding of policies and behaviors that lead to the transcendence of individuals and society in light of Imam Reza’s teachings.\n\nThe theme for this year’s congress is “Human Rights and Dignity in the Civilizational Teachings of Ahl al-Bayt\, with an Emphasis on the Teachings of Imam Reza (AS)”. This theme explores the profound insights of the Prophet’s Household on fundamental human principles. \nThis year\, the congress will feature presentations and discussions on a wide range of topics\, including: \n\nInnateness and Divinity\nOntology\, Epistemology\, and Philosophy\nSocial and Political Dimensions\nCivic and Citizenship\nEthics\n\nKey Information & Submission Guidelines \n\nDates: June 1\, 2026\, and June 2\, 2026\nLocation: Holy Shrine of Imam Reza (AS)\, Mashhad\, Iran\nOrganizers: University of Tehran & Astan Quds Razavi\n\nSubmission Requirements: \n\nAbstracts: Minimum 1000 words.\nAbstract Submission Deadline: March 9\, 2026 (19th of Esfand\, 1404 SH).\nFull Paper Submission Deadline: April 10\, 2026 (21st of Farvardin\, 1405 SH).\n\nWe encourage submissions that offer new perspectives and contribute to a deeper understanding of the civilizational teachings of Imam Reza (AS).
URL:https://tolouii.com/event/sixth-international-congress-imam-reza-event-call/
LOCATION:Mashhad\, Holy Shrine of Imam Reza (AS)\, Mashhad\, Holy Shrine of Imam Reza (AS)\, Iran\, Islamic Republic of
CATEGORIES:Scientific & Research Events
ATTACH;FMTTYPE=image/jpeg:https://tolouii.com/wp-content/uploads/2026/01/photo_۲۰۲۵-۱۲-۲۹_۲۳-۱۷-۲۷.jpg
END:VEVENT
END:VCALENDAR