BEGIN:VCALENDAR
VERSION:2.0
PRODID:-//Tolou International Institute - ECPv6.15.11//NONSGML v1.0//EN
CALSCALE:GREGORIAN
METHOD:PUBLISH
X-ORIGINAL-URL:https://tolouii.com
X-WR-CALDESC:Events for Tolou International Institute
REFRESH-INTERVAL;VALUE=DURATION:PT1H
X-Robots-Tag:noindex
X-PUBLISHED-TTL:PT1H
BEGIN:VTIMEZONE
TZID:Asia/Tehran
BEGIN:STANDARD
TZOFFSETFROM:+0330
TZOFFSETTO:+0330
TZNAME:+0330
DTSTART:20240101T000000
END:STANDARD
END:VTIMEZONE
BEGIN:VEVENT
DTSTART;TZID=Asia/Tehran:20250123T070000
DTEND;TZID=Asia/Tehran:20250123T140000
DTSTAMP:20260421T112736
CREATED:20250123T091353Z
LAST-MODIFIED:20260104T054914Z
UID:2514-1737615600-1737640800@tolouii.com
SUMMARY:Publishing Success: Workshop on Writing Articles for International Journals
DESCRIPTION:A workshop on writing articles for reputable international journals \nThis workshop is organized with the aim of teaching the principles and techniques of writing scientific and research articles in English\, adhering to the conditions and requirements of reputable international journals\, and achieving the acceptance of articles in these publications. \nWorkshop Topics:\n\nIntroduction to the scientific writing process\nStandard structure in international articles\nKey points for submitting and publishing articles\nHow to select appropriate journals\n\nParticipants:\n\nPh.D. and Level 4 seminary students\nResearchers and faculty members\n\nBenefits of Participating in the Workshop:\n\nReceiving a certificate of participation from the Tolou International Institute\nAcquiring advanced techniques for writing scientific articles\nHow to increase acceptance chances of article in reputable international journals\nNetworking and exchanging ideas with prominent professors and researchers\nBenefiting from specialized guidance on selecting appropriate journals\n\nInstructors:\nExperienced professors with a track record of publishing articles in reputable journals\n\nRegistration: 12 January 2025\nWorkshop schedule: 7:00 AM to 2:00 PM\, Thursday\, 23 January 2025\nVenue: Tolou International Institute\n\nTo register:\nhttps://docs.google.com/forms/d/e/1FAIpQLSd8eWlD01Y19TxQaj8AtN9Efz9AdmExly8Id5vptgknZTn3og/viewform?usp=dialog
URL:https://tolouii.com/event/educational-workshop/
LOCATION:Tolou International Institute (Live)\, Qom\, Iran\, Islamic Republic of
CATEGORIES:Scientific & Research Events
ATTACH;FMTTYPE=image/jpeg:https://tolouii.com/wp-content/uploads/2025/01/Poster-Tolou-English.jpg
END:VEVENT
END:VCALENDAR